BEGIN:VCALENDAR
VERSION:2.0
PRODID:-//Conservatoire d&#039;espaces naturels d&#039;Alsace - ECPv6.15.20//NONSGML v1.0//EN
CALSCALE:GREGORIAN
METHOD:PUBLISH
X-ORIGINAL-URL:https://www.conservatoire-sites-alsaciens.eu
X-WR-CALDESC:Évènements pour Conservatoire d&#039;espaces naturels d&#039;Alsace
REFRESH-INTERVAL;VALUE=DURATION:PT1H
X-Robots-Tag:noindex
X-PUBLISHED-TTL:PT1H
BEGIN:VTIMEZONE
TZID:Europe/Paris
BEGIN:DAYLIGHT
TZOFFSETFROM:+0100
TZOFFSETTO:+0200
TZNAME:CEST
DTSTART:20230326T010000
END:DAYLIGHT
BEGIN:STANDARD
TZOFFSETFROM:+0200
TZOFFSETTO:+0100
TZNAME:CET
DTSTART:20231029T010000
END:STANDARD
BEGIN:DAYLIGHT
TZOFFSETFROM:+0100
TZOFFSETTO:+0200
TZNAME:CEST
DTSTART:20240331T010000
END:DAYLIGHT
BEGIN:STANDARD
TZOFFSETFROM:+0200
TZOFFSETTO:+0100
TZNAME:CET
DTSTART:20241027T010000
END:STANDARD
BEGIN:DAYLIGHT
TZOFFSETFROM:+0100
TZOFFSETTO:+0200
TZNAME:CEST
DTSTART:20250330T010000
END:DAYLIGHT
BEGIN:STANDARD
TZOFFSETFROM:+0200
TZOFFSETTO:+0100
TZNAME:CET
DTSTART:20251026T010000
END:STANDARD
END:VTIMEZONE
BEGIN:VEVENT
DTSTART;TZID=Europe/Paris:20241207T090000
DTEND;TZID=Europe/Paris:20241207T170000
DTSTAMP:20260423T063615
CREATED:20200120T154628Z
LAST-MODIFIED:20241028T092425Z
UID:3981-1733562000-1733590800@www.conservatoire-sites-alsaciens.eu
SUMMARY:Chantier nature participatif à Huttenheim « Kopperswoerth »
DESCRIPTION:Venez participer à la gestion des sites « Kopperswoerth » au sein de la commune de Huttenheim ! (67) \nCe chantier nature participatif se déroulera sur la journée et débutera à 9h et 14h sur le parking du stade de foot d’Huttenheim où le technicien du CEN Alsace et/ou le conservateur bénévole du site vous accueilleront puis vous amèneront sur le site. Une fois le milieu et ses enjeux présentés\, le technicien et/ou le conservateur bénévole vous guideront dans la réalisation des différentes tâches en vous distribuant les outils adaptés. Rassurez-vous\, les tâches à effectuer sont accessibles à tous ! Vous pourrez prendre part à ce chantier dans la mesure de vos capacités et de vos envies. \nLes travaux à effectuer consisteront principalement à entretenir les lisières et les abords du cours d’eau. \nRepas de midi offert ! \nSi vous souhaitez vous joindre à nous\, rien de plus simple ! Rendez-vous simplement à l’heure indiquée sur le lieu du rendez-vous\, aucune inscription n’est nécessaire. \nPour plus de renseignements\, vous pouvez appeler le 03 89 83 34 10 ou nous envoyer un mail à antenne.bas-rhin@conservatoire-sites-alsaciens.eu . \nTechnicien Protection et Gestion des Espaces Naturels référent du site : GRUNENWALD Gilles (06 76 25 38 31) \nSi vous avez des gants adaptés aux travaux extérieurs\, pensez à les apporter avec vous. \nAlors n’hésitez plus ! Rejoignez-nous et venez mettre la main à la pâte pour entretenir ces milieux riches en biodiversité ! \n 
URL:https://www.conservatoire-sites-alsaciens.eu/agenda/chantier-nature-participatif-a-huttenheim-2/
LOCATION:Huttenheim\, Stade De L'U.S. H. Rue De La Forêt 67230 Huttenheim\, Huttenheim\, 67230\, France
CATEGORIES:Chantiers nature
ATTACH;FMTTYPE=image/jpeg:https://www.conservatoire-sites-alsaciens.eu/wp-content/uploads/2019/10/HUTTENHEIM-Kopperswoert.jpg
END:VEVENT
BEGIN:VEVENT
DTSTART;TZID=Europe/Paris:20241214T090000
DTEND;TZID=Europe/Paris:20241214T123000
DTSTAMP:20260423T063615
CREATED:20241028T101756Z
LAST-MODIFIED:20241122T091312Z
UID:15962-1734166800-1734179400@www.conservatoire-sites-alsaciens.eu
SUMMARY:Chantier nature participatif à Muttersholtz - Verger
DESCRIPTION:Venez participer à la gestion du site « Verger » du CEN Alsace sur la commune de Muttersholtz (67) ! \nCe chantier nature participatif se déroulera sur 1 journée et débutera à 9h sur la place de la mairie à Muttersholtz où le technicien du CEN Alsace et/ou le conservateur bénévole du site vous accueilleront puis vous amèneront sur le site. Une fois le milieu et ses enjeux présentés\, le technicien et/ou le conservateur bénévole vous guideront dans la réalisation des différentes tâches en vous distribuant les outils adaptés. \nRassurez vous\, les tâches à effectuer sont accessibles à tous ! Vous pourrez prendre part à ce chantier dans la mesure de vos capacités et de vos envies.\nLe site dont il est question est constitué d’un verger. Les travaux à effectuer consisteront principalement à la taille des arbres fruitiers et au ratissage de l’herbe fauchée. \n➡ En partenariat avec la commune de Muttersholtz \nSi vous souhaitez vous joindre à nous\, rien de plus simple ! Rendez-vous simplement à l’heure indiquée sur le lieu du rendez-vous\, aucune inscription n’est nécessaire.\nPour plus de renseignements\, vous pouvez appeler le 03 89 83 34 20 ou nous envoyer un mail à contact@conservatoire-sites-alsaciens.eu .\nTechnicien Protection et Gestion des Espaces Naturels référent du site : GRUNENWALD Gilles (06 76 25 38 31)\nSi vous avez des gants adaptés aux travaux extérieurs\, pensez à les apporter avec vous. \nN’hésitez plus : rejoignez nous et venez mettre la main à la pâte pour entretenir ces milieux riches en biodiversité !
URL:https://www.conservatoire-sites-alsaciens.eu/agenda/chantier-nature-participatif-a-muttersholtz-verger/
LOCATION:Muttersholtz\, France
CATEGORIES:Chantiers nature
END:VEVENT
BEGIN:VEVENT
DTSTART;TZID=Europe/Paris:20241214T140000
DTEND;TZID=Europe/Paris:20241214T170000
DTSTAMP:20260423T063615
CREATED:20200120T155947Z
LAST-MODIFIED:20241028T094746Z
UID:3989-1734184800-1734195600@www.conservatoire-sites-alsaciens.eu
SUMMARY:Chantier nature participatif à Réguisheim « RNR Eiblen et Illfeld »
DESCRIPTION:Venez participer à la gestion du site « RNR Eiblen et Illfeld » au sein de la commune de Réguisheim ! (68) \nCe chantier nature participatif se déroulera sur 1/2 journée et débutera à 14h devant la Mairie où le technicien du CEN Alsace et/ou le conservateur bénévole du site vous accueilleront puis vous amèneront sur le site. Une fois le milieu et ses enjeux présentés\, le technicien et/ou le conservateur bénévole vous guideront dans la réalisation des différentes tâches en vous distribuant les outils adaptés. Rassurez-vous\, les tâches à effectuer sont accessibles à tous ! Vous pourrez prendre part à ce chantier dans la mesure de vos capacités et de vos envies. \nLe site dont il est question est constitué de formations boisées\, de zones aquatiques aux faciès variés\, de zones de prés et de vergers traditionnels. Le site se présente comme un ensemble alluvial\, agricole et forestier complexe et original. Il abrite des cortèges faunistiques et floristiques riches et typiques\, comportant plusieurs espèces protégées. \nLes travaux à effectuer consisteront principalement à tailler les haies champêtres. Cela permettra de maintenir les milieux ouverts en contenant l’ourlet forestier. \nSi vous souhaitez vous joindre à nous\, rien de plus simple ! Rendez-vous simplement à l’heure indiquée sur le lieu du rendez-vous\, aucune inscription n’est nécessaire. \nPour plus de renseignements\, vous pouvez appeler le 03 89 83 34 20 ou nous envoyer un mail à contact@conservatoire-sites-alsaciens.eu . \nTechnicien Protection et Gestion des Espaces Naturels référent du site : WOLF Vincent (06 76 25 36 08) \nSi vous avez des gants adaptés aux travaux extérieurs\, pensez à les apporter avec vous. \nAlors n’hésitez plus ! Rejoignez-nous et venez mettre la main à la pâte pour entretenir ces milieux riches en biodiversité !
URL:https://www.conservatoire-sites-alsaciens.eu/agenda/chantier-nature-participatif-a-reguisheim-2/
LOCATION:Réguisheim\, 40 Rue Grand Rue\, 68890 Réguisheim\, Réguisheim\, 68890\, France
CATEGORIES:Chantiers nature
ATTACH;FMTTYPE=image/jpeg:https://www.conservatoire-sites-alsaciens.eu/wp-content/uploads/2020/01/REGUISHEIM-Eiblen-2-scaled.jpg
END:VEVENT
END:VCALENDAR