BEGIN:VCALENDAR
VERSION:2.0
PRODID:-//Conservatoire d&#039;espaces naturels d&#039;Alsace - ECPv6.15.20//NONSGML v1.0//EN
CALSCALE:GREGORIAN
METHOD:PUBLISH
X-ORIGINAL-URL:https://www.conservatoire-sites-alsaciens.eu
X-WR-CALDESC:Évènements pour Conservatoire d&#039;espaces naturels d&#039;Alsace
REFRESH-INTERVAL;VALUE=DURATION:PT1H
X-Robots-Tag:noindex
X-PUBLISHED-TTL:PT1H
BEGIN:VTIMEZONE
TZID:Europe/Paris
BEGIN:DAYLIGHT
TZOFFSETFROM:+0100
TZOFFSETTO:+0200
TZNAME:CEST
DTSTART:20230326T010000
END:DAYLIGHT
BEGIN:STANDARD
TZOFFSETFROM:+0200
TZOFFSETTO:+0100
TZNAME:CET
DTSTART:20231029T010000
END:STANDARD
BEGIN:DAYLIGHT
TZOFFSETFROM:+0100
TZOFFSETTO:+0200
TZNAME:CEST
DTSTART:20240331T010000
END:DAYLIGHT
BEGIN:STANDARD
TZOFFSETFROM:+0200
TZOFFSETTO:+0100
TZNAME:CET
DTSTART:20241027T010000
END:STANDARD
BEGIN:DAYLIGHT
TZOFFSETFROM:+0100
TZOFFSETTO:+0200
TZNAME:CEST
DTSTART:20250330T010000
END:DAYLIGHT
BEGIN:STANDARD
TZOFFSETFROM:+0200
TZOFFSETTO:+0100
TZNAME:CET
DTSTART:20251026T010000
END:STANDARD
END:VTIMEZONE
BEGIN:VEVENT
DTSTART;TZID=Europe/Paris:20240907T090000
DTEND;TZID=Europe/Paris:20240907T170000
DTSTAMP:20260423T113536
CREATED:20200115T112050Z
LAST-MODIFIED:20241030T132211Z
UID:3776-1725699600-1725728400@www.conservatoire-sites-alsaciens.eu
SUMMARY:Chantier Nature participatif à Gresswiller « Wurmberg »
DESCRIPTION:Venez participer à la gestion du site « Wurmberg » au sein de la commune de Gresswiller ! (67) \nCe chantier nature participatif se déroulera sur la journée et débutera à 9h et 14h sur la Place de la Mairie où le technicien du CEN Alsace et/ou le conservateur bénévole du site vous accueilleront puis vous amèneront sur le site. Une fois le milieu et ses enjeux présentés\, le technicien et/ou le conservateur bénévole vous guideront dans la réalisation des différentes tâches en vous distribuant les outils adaptés. Rassurez-vous\, les tâches à effectuer sont accessibles à tous ! Vous pourrez prendre part à ce chantier dans la mesure de vos capacités et de vos envies. \nLes travaux à effectuer consisteront principalement au ratissage de l’herbe\, à la taille des haies et des lisières. \nSi vous souhaitez vous joindre à nous\, rien de plus simple ! Rendez-vous simplement à l’heure indiquée sur le lieu du rendez-vous\, aucune inscription n’est nécessaire. \nTechnicien Protection et Gestion des Espaces Naturels référent du site : LEMAIRE Ludovic (07 48 13 46 35) \nPour plus de renseignements\, vous pouvez appeler le 03 89 83 34 10 ou nous envoyer un mail à antenne.bas-rhin@conservatoire-sites-alsaciens.eu . \nEn partenariat avec l’association Gresswiller Nature. \nSi vous avez des gants adaptés aux travaux extérieurs\, pensez à les apporter avec vous. \nAlors n’hésitez plus ! Rejoignez-nous et venez mettre la main à la pâte pour entretenir ces milieux riches en biodiversité !
URL:https://www.conservatoire-sites-alsaciens.eu/agenda/chantier-nature-participatif-a-gresswiller-2/
LOCATION:Gresswiller\, Mairie\, Gresswiller\, France
CATEGORIES:Chantiers nature
ATTACH;FMTTYPE=image/jpeg:https://www.conservatoire-sites-alsaciens.eu/wp-content/uploads/2020/01/GRESSWILLER-Wurmberg.jpg
END:VEVENT
BEGIN:VEVENT
DTSTART;TZID=Europe/Paris:20240907T140000
DTEND;TZID=Europe/Paris:20240907T170000
DTSTAMP:20260423T113536
CREATED:20200115T112706Z
LAST-MODIFIED:20240712T071752Z
UID:3779-1725717600-1725728400@www.conservatoire-sites-alsaciens.eu
SUMMARY:Chantier Nature participatif à Winkel « Medsche »
DESCRIPTION:Venez participer à la gestion du site « Medsche » au sein de la commune de Winkel ! (68) \nCe chantier nature participatif se déroulera sur 1/2 journée et débutera à 14h devant la Mairie où le technicien du CEN Alsace et/ou le conservateur bénévole du site vous accueilleront puis vous amèneront sur le site. Une fois le milieu et ses enjeux présentés\, le technicien et/ou le conservateur bénévole vous guideront dans la réalisation des différentes tâches en vous distribuant les outils adaptés. Rassurez-vous\, les tâches à effectuer sont accessibles à tous ! Vous pourrez prendre part à ce chantier dans la mesure de vos capacités et de vos envies. \nLes travaux à effectuer consisteront principalement à ratisser de l’herbe. \nSi vous souhaitez vous joindre à nous\, rien de plus simple ! Rendez-vous simplement à l’heure indiquée sur le lieu du rendez-vous\, aucune inscription n’est nécessaire. \nPour plus de renseignements\, vous pouvez appeler le 03 89 83 34 20 ou nous envoyer un mail à contact@conservatoire-sites-alsaciens.eu. Technicien Protection et Gestion des Espaces Naturels référent du site : WOLF Vincent (06 76 25 36 08) \nSi vous avez des gants adaptés aux travaux extérieurs\, pensez à les apporter avec vous. \nAlors n’hésitez plus ! Rejoignez-nous et venez mettre la main à la pâte pour entretenir ces milieux riches en biodiversité ! \n 
URL:https://www.conservatoire-sites-alsaciens.eu/agenda/chantier-nature-participatif-a-winkel/
LOCATION:Winkel\, 28 Rue Principale\, Winkel\, Grand Est\, 68480\, France
CATEGORIES:Chantiers nature
ATTACH;FMTTYPE=image/jpeg:https://www.conservatoire-sites-alsaciens.eu/wp-content/uploads/2019/11/WINKEL-Medsche-scaled.jpg
END:VEVENT
BEGIN:VEVENT
DTSTART;TZID=Europe/Paris:20240914T090000
DTEND;TZID=Europe/Paris:20240914T120000
DTSTAMP:20260423T113536
CREATED:20200116T092148Z
LAST-MODIFIED:20240712T072354Z
UID:3800-1726304400-1726315200@www.conservatoire-sites-alsaciens.eu
SUMMARY:Chantier nature participatif à Goldbach-Altenbach « Grand Ballon »
DESCRIPTION:Venez participer à la restauration des Hautes chaumes du Grand Ballon sur la commune de Goldbach-Altenbach (68) ! \nCe chantier nature participatif se déroulera sur la demi-journée et débutera à 9h devant l’hôtel du Grand Ballon où le technicien du CEN Alsace et/ou le conservateur bénévole du site vous accueilleront puis vous amèneront sur le site. Une fois le milieu et ses enjeux présentés\, le technicien et/ou le conservateur bénévole vous guideront dans la réalisation des différentes tâches en vous distribuant les outils adaptés. Rassurez-vous\, les tâches à effectuer sont accessibles à tous ! Vous pourrez prendre part à ce chantier dans la mesure de vos capacités et de vos envies. \nLe site dont il est question est constitué de landes à myrtille et callune. Situé sur la partie sommitale du Grand Ballon\, point culminant du massif des Vosges\, le site est compris dans la zone protégée par Arrêté Préfectoral de Protection de Biotopes (APPB). Petit îlot alpin\, il héberge une flore unique dans le massif des Vosges. \nLes travaux à effectuer consisteront à entretenir les lisières et couper les rejets ligneux\, permettant ainsi de conserver cet habitat ouvert. \nSi vous souhaitez vous joindre à nous\, rien de plus simple ! Rendez-vous simplement à l’heure indiquée sur le lieu du rendez-vous\, aucune inscription n’est nécessaire. \nPour plus de renseignements\, vous pouvez appeler le 03 89 83 34 20 ou nous envoyer un mail à contact@conservatoire-sites-alsaciens.eu . \nTechnicien Protection et Gestion des Espaces Naturels référent du site : THIEBAUT Louis (06 76 25 39 97) \nSi vous avez des gants adaptés aux travaux extérieurs\, pensez à les apporter avec vous. \nAlors n’hésitez plus ! Rejoignez-nous et venez mettre la main à la pâte pour entretenir ces milieux riches en biodiversité !🌿 \n 
URL:https://www.conservatoire-sites-alsaciens.eu/agenda/chantier-nature-participatif-au-grand-ballon/
LOCATION:Lautenbach-Zell\, Grand Ballon\, Lautenbach-Zell\, Grand Est\, 68610\, France
CATEGORIES:Chantiers nature
ATTACH;FMTTYPE=image/jpeg:https://www.conservatoire-sites-alsaciens.eu/wp-content/uploads/2020/02/LAUTENBACHZELL-Haag.jpg
END:VEVENT
BEGIN:VEVENT
DTSTART;TZID=Europe/Paris:20240914T090000
DTEND;TZID=Europe/Paris:20240914T170000
DTSTAMP:20260423T113536
CREATED:20200115T134051Z
LAST-MODIFIED:20240712T072903Z
UID:3790-1726304400-1726333200@www.conservatoire-sites-alsaciens.eu
SUMMARY:Chantier Nature participatif à Eschau « Ried »
DESCRIPTION:Venez participer à la gestion du site « Ried » au sein de la commune de Eschau ! \nCe chantier nature participatif se déroulera sur la 1/2 journées et débutera à 9h sur le parking derrière la Mairie où le technicien du CEN Alsace et/ou le conservateur bénévole du site vous accueilleront puis vous amèneront sur le site. Une fois le milieu et ses enjeux présentés\, le technicien et/ou le conservateur bénévole vous guideront dans la réalisation des différentes tâches en vous distribuant les outils adaptés. Rassurez-vous\, les tâches à effectuer sont accessibles à tous ! Vous pourrez prendre part à ce chantier dans la mesure de vos capacités et de vos envies. \nLes travaux à effectuer consisteront principalement à faucher et ratisser de l’herbe. \n➡ En partenariat avec l’Association Eschau-Nature. \nSi vous souhaitez vous joindre à nous\, rien de plus simple ! Rendez-vous simplement à l’heure indiquée sur le lieu du rendez-vous\, aucune inscription n’est nécessaire. \nPour plus de renseignements\, vous pouvez appeler le 03 89 83 34 10 ou nous envoyer un mail à antenne.bas-rhin@conservatoire-sites-alsaciens.eu . \nTechnicien Protection et Gestion des Espaces Naturels référent du site : Ludovic LEMAIRE (07 48 13 46 35) \nSi vous avez des gants adaptés aux travaux extérieurs\, pensez à les apporter avec vous. \nAlors n’hésitez plus ! Rejoignez-nous et venez mettre la main à la pâte pour entretenir ces milieux riches en biodiversité ! \n 
URL:https://www.conservatoire-sites-alsaciens.eu/agenda/chantier-nature-participatif-a-eschau-2/
LOCATION:Eschau\, Rue de la 1ère Division Blindée\, Eschau\, Grand Est\, 67114\, France
CATEGORIES:Chantiers nature
ATTACH;FMTTYPE=image/jpeg:https://www.conservatoire-sites-alsaciens.eu/wp-content/uploads/2020/01/ILLKIRCH-GRAFFENSTADEN-ESCHAU-Hertenmatten-scaled.jpg
END:VEVENT
BEGIN:VEVENT
DTSTART;TZID=Europe/Paris:20240921T090000
DTEND;TZID=Europe/Paris:20240921T170000
DTSTAMP:20260423T113536
CREATED:20200115T094608Z
LAST-MODIFIED:20240712T081029Z
UID:3752-1726909200-1726938000@www.conservatoire-sites-alsaciens.eu
SUMMARY:Chantier Nature à Bernardswiller « Dorenberg »
DESCRIPTION:Venez participer à la gestion du site « Dorenberg » au sein de la commune de Bernardswiller ! \nCe chantier nature participatif se déroulera sur la journée et débutera à 9h et à 14h sur la Place de la Mairie où le technicien du CEN Alsace et/ou le conservateur bénévole du site vous accueilleront puis vous amèneront sur le site. Une fois le milieu et ses enjeux présentés\, le technicien et/ou le conservateur bénévole vous guideront dans la réalisation des différentes tâches en vous distribuant les outils adaptés. Rassurez-vous\, les tâches à effectuer sont accessibles à tous ! Vous pourrez prendre part à ce chantier dans la mesure de vos capacités et de vos envies. \nLes travaux à effectuer consisteront principalement à faucher et ratisser l’herbe. \nPour plus de renseignements\, vous pouvez appeler le 03 89 83 34 10 ou nous envoyer un mail à antenne.bas-rhin@conservatoire-sites-alsaciens.eu . \nTechnicien Protection et Gestion des Espaces Naturels référent du site : Ludovic LEMAIRE (07 48 13 46 35) \nSi vous avez des gants adaptés aux travaux extérieurs\, pensez à les apporter avec vous. \nAlors n’hésitez plus ! Rejoignez-nous et venez mettre la main à la pâte pour entretenir ces milieux riches en biodiversité ! \n 
URL:https://www.conservatoire-sites-alsaciens.eu/agenda/chantier-nature-a-bernardswiller/
LOCATION:Bernardswiller\, 3 Place de l'Église\, 67210 Bernardswiller\, Bernardswiller\, 67210\, France
CATEGORIES:Chantiers nature
ATTACH;FMTTYPE=image/jpeg:https://www.conservatoire-sites-alsaciens.eu/wp-content/uploads/2020/01/2020_08_21_BERNARDSWILLER_Dorenberg_PG_Reunion-concertation-39-scaled.jpg
END:VEVENT
BEGIN:VEVENT
DTSTART;TZID=Europe/Paris:20240921T090000
DTEND;TZID=Europe/Paris:20240921T170000
DTSTAMP:20260423T113536
CREATED:20200115T121920Z
LAST-MODIFIED:20240712T074329Z
UID:3786-1726909200-1726938000@www.conservatoire-sites-alsaciens.eu
SUMMARY:Chantier nature participatif à Bouxwiller « Wasen »
DESCRIPTION:Venez participer à la gestion du site « Wasen » au sein de la commune de Bouxwiller ! (67) \nCe chantier nature participatif se déroulera sur la journée et débutera à 9h et 14h sur le parking du réservoir\, rue du Bastberg où le technicien du CEN Alsace et/ou le conservateur bénévole du site vous accueilleront puis vous amèneront sur le site. Une fois le milieu et ses enjeux présentés\, le technicien et/ou le conservateur bénévole vous guideront dans la réalisation des différentes tâches en vous distribuant les outils adaptés. Rassurez-vous\, les tâches à effectuer sont accessibles à tous ! Vous pourrez prendre part à ce chantier dans la mesure de vos capacités et de vos envies. \nLe site dont il est question est constitué d’une pelouse à orchidées et d’un verger haute tige. Les travaux à effectuer consisteront principalement à soigner et tailler les arbres fruitiers et entretenir les lisières. Cela permettra de maintenir les milieux ouverts et d’entretenir les arbres fruitiers. \nSi vous souhaitez vous joindre à nous\, rien de plus simple ! Rendez-vous simplement à l’heure indiquée sur le lieu du rendez-vous\, aucune inscription n’est nécessaire. \nPour plus de renseignements\, vous pouvez appeler le 03 89 83 34 10 ou nous envoyer un mail à antenne.bas-rhin@conservatoire-sites-alsaciens.eu . \nSi vous avez des gants adaptés aux travaux extérieurs\, pensez à les apporter avec vous. \nAlors n’hésitez plus ! Rejoignez-nous et venez mettre la main à la pâte pour entretenir ces milieux riches en biodiversité ! \n 
URL:https://www.conservatoire-sites-alsaciens.eu/agenda/chantier-nature-a-bouxwiller/
CATEGORIES:Chantiers nature
ATTACH;FMTTYPE=image/jpeg:https://www.conservatoire-sites-alsaciens.eu/wp-content/uploads/2020/01/BOUXWILLER-Wasen-low.jpg
END:VEVENT
BEGIN:VEVENT
DTSTART;TZID=Europe/Paris:20240921T140000
DTEND;TZID=Europe/Paris:20240921T170000
DTSTAMP:20260423T113536
CREATED:20200116T093350Z
LAST-MODIFIED:20240712T073618Z
UID:3804-1726927200-1726938000@www.conservatoire-sites-alsaciens.eu
SUMMARY:Chantier nature participatif à Ligsdorf « Dem Georboden »
DESCRIPTION:Venez participer à la gestion du site « Dem Georboden » au sein de la commune de Ligsdorf ! (68) \nCe chantier nature participatif se déroulera sur 1/2 journée et débutera à 14h devant la Mairie où le technicien du CEN Alsace et/ou le conservateur bénévole du site vous accueilleront puis vous amèneront sur le site. Une fois le milieu et ses enjeux présentés\, le technicien et/ou le conservateur bénévole vous guideront dans la réalisation des différentes tâches en vous distribuant les outils adaptés. Rassurez-vous\, les tâches à effectuer sont accessibles à tous ! Vous pourrez prendre part à ce chantier dans la mesure de vos capacités et de vos envies. \nLes travaux à effectuer consisteront principalement à ratisser de l’herbe. \nSi vous souhaitez vous joindre à nous\, rien de plus simple ! Rendez-vous simplement à l’heure indiquée sur le lieu du rendez-vous\, aucune inscription n’est nécessaire. \nPour plus de renseignements\, vous pouvez appeler le 03 89 83 34 20 ou nous envoyer un mail à contact@conservatoire-sites-alsaciens.eu . \nTechnicien Protection et Gestion des Espaces Naturels référent du site : WOLF Vincent (06 76 25 36 08) \nSi vous avez des gants adaptés aux travaux extérieurs\, pensez à les apporter avec vous. \nAlors n’hésitez plus ! Rejoignez-nous et venez mettre la main à la pâte pour entretenir ces milieux riches en biodiversité ! \n 
URL:https://www.conservatoire-sites-alsaciens.eu/agenda/chantier-nature-participatif-a-ligsdorf/
LOCATION:Ligsdorf\, Mairie\, Ligsdorf\, Grand Est\, 68480\, France
CATEGORIES:Chantiers nature
ATTACH;FMTTYPE=image/jpeg:https://www.conservatoire-sites-alsaciens.eu/wp-content/uploads/2019/12/LIGSDORF-Dem-Georgboden.jpg
END:VEVENT
BEGIN:VEVENT
DTSTART;TZID=Europe/Paris:20240928T090000
DTEND;TZID=Europe/Paris:20240928T120000
DTSTAMP:20260423T113536
CREATED:20200117T101413Z
LAST-MODIFIED:20240712T081551Z
UID:3824-1727514000-1727524800@www.conservatoire-sites-alsaciens.eu
SUMMARY:Chantier Nature participatif à Epfig « Brunkeln »
DESCRIPTION:Venez participer à la gestion du site « Brunkeln » au sein de la commune d’Epfig ! \nCe chantier nature participatif se déroulera sur 1/2 journée et débutera à 9h devant la Mairie où le technicien du Conservatoire des sites alsaciens et/ou le conservateur bénévole du site vous accueilleront puis vous amèneront sur le site. Une fois le milieu et ses enjeux présentés\, le technicien et/ou le conservateur bénévole vous guideront dans la réalisation des différentes tâches en vous distribuant les outils adaptés. Rassurez-vous\, les tâches à effectuer sont accessibles à tous ! Vous pourrez prendre part à ce chantier dans la mesure de vos capacités et de vos envies. \nLes travaux à effectuer consisteront principalement à tailler les haies champêtres et entretenir la mare. \nSi vous souhaitez vous joindre à nous\, rien de plus simple ! Rendez-vous simplement à l’heure indiquée sur le lieu du rendez-vous\, aucune inscription n’est nécessaire. \nPour plus de renseignements\, vous pouvez appeler le 03 89 83 34 10 ou nous envoyer un mail à antenne.bas-rhin@conservatoire-sites-alsaciens.eu . \nTechnicien Protection et Gestion des Espaces Naturels référent du site : LEMAIRE Ludovic (07 48 13 46 35) \nSi vous avez des gants adaptés aux travaux extérieurs\, pensez à les apporter avec vous. \nAlors n’hésitez plus ! Rejoignez-nous et venez mettre la main à la pâte pour entretenir ces milieux riches en biodiversité ! \n  \n 
URL:https://www.conservatoire-sites-alsaciens.eu/agenda/chantier-nature-participatif-a-epfig/
LOCATION:Epfig\, Mairie\, Epfig\, Grand Est\, 67680\, France
CATEGORIES:Chantiers nature
ATTACH;FMTTYPE=image/jpeg:https://www.conservatoire-sites-alsaciens.eu/wp-content/uploads/2020/01/EPFIG-Brunkeln-Copie.jpg
END:VEVENT
BEGIN:VEVENT
DTSTART;TZID=Europe/Paris:20240928T090000
DTEND;TZID=Europe/Paris:20240928T120000
DTSTAMP:20260423T113536
CREATED:20200120T090726Z
LAST-MODIFIED:20241030T112911Z
UID:3883-1727514000-1727524800@www.conservatoire-sites-alsaciens.eu
SUMMARY:Chantier Nature participatif à Hirtzfelden « Rothleible »
DESCRIPTION:Venez participer à la gestion du site « Rothleible » au sein de la commune de Hirtzfelden ! (68) \nCe chantier nature participatif se déroulera sur 1/2 journée et débutera à 9h sur le parking de la salle polyvalente de Hirtzfelden où la technicienne du CEN Alsace et/ou le conservateur bénévole du site vous accueilleront puis vous amèneront sur le site. Une fois le milieu et ses enjeux présentés\, le technicien et/ou le conservateur bénévole vous guideront dans la réalisation des différentes tâches en vous distribuant les outils adaptés. Rassurez-vous\, les tâches à effectuer sont accessibles à tous ! Vous pourrez prendre part à ce chantier dans la mesure de vos capacités et de vos envies. \nLe site dont il est question est constitué d’une forêt présentant plusieurs clairières steppiques\, habitats remarquables pour la faune et la flore qui s’expliquent par la sécheresse caractéristique de la Hardt (seulement 600 à 650 mm de précipitations par an). Le bois de Rothleible est présent dans une région où l’agriculture intensive a rendu le paysage de plaine monotone\, ce site constitue donc un élément très important du paysage en plus de son intérêt biologique. \nLes travaux à effectuer consisteront principalement à entretenir la mare. Cela permettra de maintenir des clairières steppiques en limitant l’avancée de la foret et donc la fermeture des clairières. Certaines espèces comme Fraxinelle (Dictamnus albus) bénéficieront directement de ces actions. \n➡ En partenariat avec la Maison de la nature du vieux canal de Hirtzfelden. \nSi vous souhaitez vous joindre à nous\, rien de plus simple ! Rendez-vous simplement à l’heure indiquée sur le lieu du rendez-vous\, aucune inscription n’est nécessaire. \nPour plus de renseignements\, vous pouvez appeler le 03 89 83 34 20 ou nous envoyer un mail à contact@conservatoire-sites-alsaciens.eu . \nTechnicienne Protection et Gestion des Espaces Naturels référent du site : RIEB Aurélie (07 57 54 72 41) \nSi vous avez des gants adaptés aux travaux extérieurs\, pensez à les apporter avec vous. \nAlors n’hésitez plus ! Rejoignez-nous et venez mettre la main à la pâte pour entretenir ces milieux riches en biodiversité !
URL:https://www.conservatoire-sites-alsaciens.eu/agenda/chantier-nature-participatif-a-hirtzfelden-3/
LOCATION:Hirtzfelden\, 9 Rue D Ela République\, Hirtzfelden 68740\, Hirtzfelden\, 68740\, France
CATEGORIES:Chantiers nature
ATTACH;FMTTYPE=image/jpeg:https://www.conservatoire-sites-alsaciens.eu/wp-content/uploads/2019/10/HIRTZFELDEN-Rothleible.jpg
END:VEVENT
BEGIN:VEVENT
DTSTART;TZID=Europe/Paris:20240928T140000
DTEND;TZID=Europe/Paris:20240928T170000
DTSTAMP:20260423T113536
CREATED:20200117T110543Z
LAST-MODIFIED:20240712T082121Z
UID:3828-1727532000-1727542800@www.conservatoire-sites-alsaciens.eu
SUMMARY:Chantier Nature participatif à Epfig « Erlenmatten »
DESCRIPTION:Venez participer à la gestion du site « Erlenmatten » au sein de la commune d’Epfig ! \nCe chantier nature participatif se déroulera sur 1/2 journée et débutera à 14h devant la Mairie où le technicien du CEN Alsace et/ou le conservateur bénévole du site vous accueilleront puis vous amèneront sur le site. Une fois le milieu et ses enjeux présentés\, le technicien et/ou le conservateur bénévole vous guideront dans la réalisation des différentes tâches en vous distribuant les outils adaptés. Rassurez-vous\, les tâches à effectuer sont accessibles à tous ! Vous pourrez prendre part à ce chantier dans la mesure de vos capacités et de vos envies. \nLes travaux à effectuer consisteront principalement à tailler les haies champêtres et entretenir la mare. \nSi vous souhaitez vous joindre à nous\, rien de plus simple ! Rendez-vous simplement à l’heure indiquée sur le lieu du rendez-vous\, aucune inscription n’est nécessaire. \nPour plus de renseignements\, vous pouvez appeler le 03 89 83 34 10 ou nous envoyer un mail à antenne.bas-rhin@conservatoire-sites-alsaciens.eu . \nTechnicien Protection et Gestion des Espaces Naturels référent du site : Ludovic LEMAIRE (07 48 13 46 35) \nSi vous avez des gants adaptés aux travaux extérieurs\, pensez à les apporter avec vous. \nAlors n’hésitez plus ! Rejoignez-nous et venez mettre la main à la pâte pour entretenir ces milieux riches en biodiversité !
URL:https://www.conservatoire-sites-alsaciens.eu/agenda/chantier-nature-participatif-a-epfig-2/
LOCATION:Epfig\, Mairie\, Epfig\, Grand Est\, 67680\, France
CATEGORIES:Chantiers nature
ATTACH;FMTTYPE=image/jpeg:https://www.conservatoire-sites-alsaciens.eu/wp-content/uploads/2020/02/EPFIG-ErlenErlenmatten-scaled.jpg
END:VEVENT
END:VCALENDAR