BEGIN:VCALENDAR
VERSION:2.0
PRODID:-//Conservatoire d&#039;espaces naturels d&#039;Alsace - ECPv6.15.20//NONSGML v1.0//EN
CALSCALE:GREGORIAN
METHOD:PUBLISH
X-WR-CALNAME:Conservatoire d&#039;espaces naturels d&#039;Alsace
X-ORIGINAL-URL:https://www.conservatoire-sites-alsaciens.eu
X-WR-CALDESC:Évènements pour Conservatoire d&#039;espaces naturels d&#039;Alsace
REFRESH-INTERVAL;VALUE=DURATION:PT1H
X-Robots-Tag:noindex
X-PUBLISHED-TTL:PT1H
BEGIN:VTIMEZONE
TZID:Europe/Paris
BEGIN:DAYLIGHT
TZOFFSETFROM:+0100
TZOFFSETTO:+0200
TZNAME:CEST
DTSTART:20230326T010000
END:DAYLIGHT
BEGIN:STANDARD
TZOFFSETFROM:+0200
TZOFFSETTO:+0100
TZNAME:CET
DTSTART:20231029T010000
END:STANDARD
BEGIN:DAYLIGHT
TZOFFSETFROM:+0100
TZOFFSETTO:+0200
TZNAME:CEST
DTSTART:20240331T010000
END:DAYLIGHT
BEGIN:STANDARD
TZOFFSETFROM:+0200
TZOFFSETTO:+0100
TZNAME:CET
DTSTART:20241027T010000
END:STANDARD
BEGIN:DAYLIGHT
TZOFFSETFROM:+0100
TZOFFSETTO:+0200
TZNAME:CEST
DTSTART:20250330T010000
END:DAYLIGHT
BEGIN:STANDARD
TZOFFSETFROM:+0200
TZOFFSETTO:+0100
TZNAME:CET
DTSTART:20251026T010000
END:STANDARD
END:VTIMEZONE
BEGIN:VEVENT
DTSTART;TZID=Europe/Paris:20240302T090000
DTEND;TZID=Europe/Paris:20240302T120000
DTSTAMP:20260423T205638
CREATED:20200115T090753Z
LAST-MODIFIED:20240115T093513Z
UID:3739-1709370000-1709380800@www.conservatoire-sites-alsaciens.eu
SUMMARY:Chantier Nature participatif à Chavannes-sur-l'Etang « Etangs du Sundgau »
DESCRIPTION:Venez participer à la gestion du site « Etangs du Sundgau » au sein de la commune de Chavannes-sur-l’Etang ! (68) \nCe chantier nature participatif se déroulera sur 1/2 journée et débutera à 9h devant la Mairie où le technicien du CEN Alsace et/ou le Conservateur bénévole du site vous accueilleront puis vous amèneront sur le site. Une fois le milieu et ses enjeux présentés\, le technicien et/ou le conservateur bénévole vous guideront dans la réalisation des différentes tâches en vous distribuant les outils adaptés. Rassurez-vous\, les tâches à effectuer sont accessibles à tous ! Vous pourrez prendre part à ce chantier dans la mesure de vos capacités et de vos envies. \nLes travaux à effectuer consisteront principalement à entretenir les berges de l’étang. \nSi vous souhaitez vous joindre à nous\, rien de plus simple ! Rendez-vous simplement à l’heure indiquée sur le lieu du rendez-vous\, aucune inscription n’est nécessaire. \nPour plus de renseignements\, vous pouvez appeler le 03 89 83 34 20 ou nous envoyer un mail à contact@conservatoire-sites-alsaciens.eu . \nTechnicien Protection et Gestion des Espaces Naturels référent du site : WOLF Vincent (06 76 25 36 08) \nSi vous avez des gants adaptés aux travaux extérieurs\, pensez à les apporter avec vous. \nAlors n’hésitez plus ! Rejoignez-nous et venez mettre la main à la pâte pour entretenir ces milieux riches en biodiversité ! \n➡ Chantier labellisé « Fréquence grenouille » (événement national).
URL:https://www.conservatoire-sites-alsaciens.eu/agenda/chantier-nature-participatif-a-chavannes-sur-letang-2/
LOCATION:Chavannes sur l’Etang\, 9 Rue de Bellefontaine\, 68210 Chavannes-sur-l'Étang\, Chavannes sur l'Etang\, 68210\, France
CATEGORIES:Chantiers nature
ATTACH;FMTTYPE=image/jpeg:https://www.conservatoire-sites-alsaciens.eu/wp-content/uploads/2019/12/CHAVANNES-SUR-LETANG-Etang-du-milieu.jpg
END:VEVENT
BEGIN:VEVENT
DTSTART;TZID=Europe/Paris:20240302T090000
DTEND;TZID=Europe/Paris:20240302T170000
DTSTAMP:20260423T205638
CREATED:20221026T095803Z
LAST-MODIFIED:20241030T131311Z
UID:12470-1709370000-1709398800@www.conservatoire-sites-alsaciens.eu
SUMMARY:Chantier Nature participatif à Soultz-les-Bains « Jesselsberg »
DESCRIPTION:Venez participer à la gestion du site « Jesselsberg » au sein de la commune de Soultz-les-Bains (67) \nCe chantier nature participatif se déroulera sur la journée et débutera à 9h devant l’église (rue Saint-Maurice) où le technicien du CEN Alsace et/ou le conservateur bénévole du site vous accueilleront puis vous amèneront sur le site. Une fois le milieu et ses enjeux présentés\, le technicien et/ou le conservateur bénévole vous guideront dans la réalisation des différentes tâches en vous distribuant les outils adaptés. Rassurez-vous\, les tâches à effectuer sont accessibles à tous ! Vous pourrez prendre part à ce chantier dans la mesure de vos capacités et de vos envies. \nLes travaux à effectuer consisteront principalement à l’entretien du parc à chèvres. \nSi vous souhaitez vous joindre à nous\, rien de plus simple ! Rendez-vous simplement à l’heure indiquée sur le lieu du rendez-vous\, aucune inscription n’est nécessaire. \nTechnicien Protection et Gestion des Espaces Naturels référent du site : LEMAIRE Ludovic (07 48 13 46 35) \nPour plus de renseignements\, vous pouvez appeler le 03 89 83 34 10 ou nous envoyer un mail à antenne.bas-rhin@conservatoire-sites-alsaciens.eu . \nSi vous avez des gants adaptés aux travaux extérieurs\, pensez à les apporter avec vous. \nAlors n’hésitez plus ! Rejoignez-nous et venez mettre la main à la pâte pour entretenir ces milieux riches en biodiversité !
URL:https://www.conservatoire-sites-alsaciens.eu/agenda/chantier-nature-participatif-a-soultz-les-bains-jesselsberg-2/
LOCATION:Soultz-les-Bains\, Eglise\, Soultz-les-Bains\, Grand Est\, 67120\, France
CATEGORIES:Chantiers nature
ATTACH;FMTTYPE=image/jpeg:https://www.conservatoire-sites-alsaciens.eu/wp-content/uploads/2021/01/SOULTZ-LES-BAINS-Jesselberg_Pierre-GOERTZ-scaled.jpg
END:VEVENT
BEGIN:VEVENT
DTSTART;TZID=Europe/Paris:20240309T090000
DTEND;TZID=Europe/Paris:20240309T170000
DTSTAMP:20260423T205638
CREATED:20200115T092327Z
LAST-MODIFIED:20241030T131417Z
UID:3744-1709974800-1710003600@www.conservatoire-sites-alsaciens.eu
SUMMARY:Chantier Nature participatif à Gresswiller « Wurmberg »
DESCRIPTION:Venez participer à la gestion du site « Wurmberg » au sein de la commune de Gresswiller ! (67) \nCe chantier nature participatif se déroulera sur la journée et débutera à 9h et 14h sur la Place de la Mairie où le technicien du CEN Alsace et/ou le conservateur bénévole du site vous accueilleront puis vous amèneront sur le site. Une fois le milieu et ses enjeux présentés\, le technicien et/ou le conservateur bénévole vous guideront dans la réalisation des différentes tâches en vous distribuant les outils adaptés. Rassurez-vous\, les tâches à effectuer sont accessibles à tous ! Vous pourrez prendre part à ce chantier dans la mesure de vos capacités et de vos envies. \nLes travaux à effectuer consisteront principalement à ratisser de l’herbe\, tailler des haies et entretenir les lisières. \nSi vous souhaitez vous joindre à nous\, rien de plus simple ! Rendez-vous simplement à l’heure indiquée sur le lieu du rendez-vous\, aucune inscription n’est nécessaire. \nTechnicien Protection et Gestion des Espaces Naturels référent du site : LEMAIRE Ludovic (07 48 13 46 35) \nPour plus de renseignements\, vous pouvez appeler le 03 89 83 34 10 ou nous envoyer un mail à antenne.bas-rhin@conservatoire-sites-alsaciens.eu . \nSi vous avez des gants adaptés aux travaux extérieurs\, pensez à les apporter avec vous. \nAlors n’hésitez plus ! Rejoignez-nous et venez mettre la main à la pâte pour entretenir ces milieux riches en biodiversité !
URL:https://www.conservatoire-sites-alsaciens.eu/agenda/chantier-nature-participatif-a-gresswiller/
LOCATION:Gresswiller\, Mairie\, Gresswiller\, France
CATEGORIES:Chantiers nature
ATTACH;FMTTYPE=image/jpeg:https://www.conservatoire-sites-alsaciens.eu/wp-content/uploads/2020/01/GRESSWILLER-Wurmberg.jpg
END:VEVENT
BEGIN:VEVENT
DTSTART;TZID=Europe/Paris:20240316T090000
DTEND;TZID=Europe/Paris:20240316T170000
DTSTAMP:20260423T205638
CREATED:20210125T143253Z
LAST-MODIFIED:20240212T090112Z
UID:8314-1710579600-1710608400@www.conservatoire-sites-alsaciens.eu
SUMMARY:Chantier Nature participatif à Fort-Louis « Prairie des bords de la Moder »
DESCRIPTION:Venez participer à la gestion du site « Prairie des bords de la Moder » au sein de la commune de Fort-Louis! (67) \nCe chantier nature participatif se déroulera sur la journée et débutera à 9h et 14h devant le Fort\, RD 319 en direction Roeschwoog depuis la Mairie où le technicien du CEN Alsace et/ou le conservateur bénévole du site vous accueilleront puis vous amèneront sur le site. Une fois le milieu et ses enjeux présentés\, le technicien et/ou le conservateur bénévole vous guideront dans la réalisation des différentes tâches en vous distribuant les outils adaptés. Rassurez-vous\, les tâches à effectuer sont accessibles à tous ! Vous pourrez prendre part à ce chantier dans la mesure de vos capacités et de vos envies. \nLes travaux à effectuer consisteront principalement à tailler les haies champêtres et entretenir la mare. \n➡ Chantier labellisé « Fréquence grenouille » (événement national). \nSi vous souhaitez vous joindre à nous\, rien de plus simple ! Rendez-vous simplement à l’heure indiquée sur le lieu du rendez-vous\, aucune inscription n’est nécessaire. \nPour plus de renseignements\, vous pouvez appeler le 03 89 83 34 10 ou nous envoyer un mail à antenne.bas-rhin@conservatoire-sites-alsaciens.eu . \nTechnicien Protection et Gestion des Espaces Naturels référent du site : LANI Alessandro (06 08 04 46 37) \nSi vous avez des gants adaptés aux travaux extérieurs\, pensez à les apporter avec vous. Pensez également à vos masques ! \nAlors n’hésitez plus ! Rejoignez-nous et venez mettre la main à la pâte pour entretenir ces milieux riches en biodiversité !
URL:https://www.conservatoire-sites-alsaciens.eu/agenda/chantier-nature-participatif-a-fort-louis-prairie-des-bords-de-la-moder/
LOCATION:Fort-Louis\, Fort-Louis\, France
CATEGORIES:Chantiers nature
ATTACH;FMTTYPE=image/jpeg:https://www.conservatoire-sites-alsaciens.eu/wp-content/uploads/2020/01/FORT-LOUIS-ROESCHWOOG-Moder-scaled.jpg
END:VEVENT
BEGIN:VEVENT
DTSTART;TZID=Europe/Paris:20240323T090000
DTEND;TZID=Europe/Paris:20240323T120000
DTSTAMP:20260423T205638
CREATED:20240116T104247Z
LAST-MODIFIED:20241028T083759Z
UID:14718-1711184400-1711195200@www.conservatoire-sites-alsaciens.eu
SUMMARY:Chantier nature participatif à Sharrachbergheim - Irmstett\, Le Scharrachberg
DESCRIPTION:Venez participer au grand nettoyage de printemps sur le site du Sharrachberg à Sharrachbergheim – Irmstett ! \nCe chantier nature participatif se déroulera sur la matinée et débutera à 9h. Le technicien du CEN Alsace et/ou le conservateur bénévole du site vous accueilleront puis vous amèneront sur le site. \nUne fois le milieu et ses enjeux présentés\, le technicien et/ou le conservateur bénévole vous guideront dans la réalisation des différentes tâches en vous distribuant les outils adaptés. Rassurez-vous\, les tâches à effectuer sont accessibles à tous ! Vous pourrez prendre part à ce chantier dans la mesure de vos capacités et de vos envies. \nLes travaux à effectuer consisteront à l’entretien de ce site naturel et au nettoyage d’une casemate\, abri pour les chauves-souris ! \nSi vous souhaitez vous joindre à nous\, rien de plus simple ! Rendez-vous simplement à l’heure indiquée sur le lieu du rendez-vous\, aucune inscription n’est nécessaire. \nPour plus de renseignements\, vous pouvez contacter le conservateur bénévole Benoît Lux (lux.benoit@wanadoo.fr)\, appeler le 03 89 83 34 10 ou nous envoyer un mail à antenne.bas-rhin@conservatoire-sites-alsaciens.eu. \nSi vous avez des gants adaptés aux travaux extérieurs\, pensez à les apporter avec vous. \nAlors n’hésitez plus ! Rejoignez-nous et venez mettre la main à la pâte pour entretenir ces milieux riches en biodiversité !
URL:https://www.conservatoire-sites-alsaciens.eu/agenda/chantier-nature-participatif-a-sharrachbergheim-irmstett-le-scharrachberg/
CATEGORIES:Chantiers nature
ATTACH;FMTTYPE=image/jpeg:https://www.conservatoire-sites-alsaciens.eu/wp-content/uploads/2024/01/Prairie-ouest-en-haut_2022_07_21_SCHARRACHBERGHEIM_Scharrachberg_ES-scaled.jpg
END:VEVENT
END:VCALENDAR