BEGIN:VCALENDAR
VERSION:2.0
PRODID:-//Conservatoire d&#039;espaces naturels d&#039;Alsace - ECPv6.15.20//NONSGML v1.0//EN
CALSCALE:GREGORIAN
METHOD:PUBLISH
X-ORIGINAL-URL:https://www.conservatoire-sites-alsaciens.eu
X-WR-CALDESC:Évènements pour Conservatoire d&#039;espaces naturels d&#039;Alsace
REFRESH-INTERVAL;VALUE=DURATION:PT1H
X-Robots-Tag:noindex
X-PUBLISHED-TTL:PT1H
BEGIN:VTIMEZONE
TZID:Europe/Paris
BEGIN:DAYLIGHT
TZOFFSETFROM:+0100
TZOFFSETTO:+0200
TZNAME:CEST
DTSTART:20230326T010000
END:DAYLIGHT
BEGIN:STANDARD
TZOFFSETFROM:+0200
TZOFFSETTO:+0100
TZNAME:CET
DTSTART:20231029T010000
END:STANDARD
BEGIN:DAYLIGHT
TZOFFSETFROM:+0100
TZOFFSETTO:+0200
TZNAME:CEST
DTSTART:20240331T010000
END:DAYLIGHT
BEGIN:STANDARD
TZOFFSETFROM:+0200
TZOFFSETTO:+0100
TZNAME:CET
DTSTART:20241027T010000
END:STANDARD
BEGIN:DAYLIGHT
TZOFFSETFROM:+0100
TZOFFSETTO:+0200
TZNAME:CEST
DTSTART:20250330T010000
END:DAYLIGHT
BEGIN:STANDARD
TZOFFSETFROM:+0200
TZOFFSETTO:+0100
TZNAME:CET
DTSTART:20251026T010000
END:STANDARD
END:VTIMEZONE
BEGIN:VEVENT
DTSTART;TZID=Europe/Paris:20240203T090000
DTEND;TZID=Europe/Paris:20240203T120000
DTSTAMP:20260423T223630
CREATED:20240115T080021Z
LAST-MODIFIED:20241030T134333Z
UID:3959-1706950800-1706961600@www.conservatoire-sites-alsaciens.eu
SUMMARY:Chantier Nature participatif à Bischoffsheim « Steingrube »
DESCRIPTION:Venez participer à la gestion du site « Steingrube » au sein de la commune de Bischoffsheim ! (67) \nCe chantier nature participatif se déroulera sur 1/2 journée et débutera à 9h sur le parking à l’extérieur du Couvent de Bischoffsheim où le technicien du Conservatoire des sites alsaciens et/ou le conservateur bénévole du site vous accueilleront puis vous amèneront sur le site. Une fois le milieu et ses enjeux présentés\, le technicien et/ou le conservateur bénévole vous guideront dans la réalisation des différentes tâches en vous distribuant les outils adaptés. Rassurez-vous\, les tâches à effectuer sont accessibles à tous ! Vous pourrez prendre part à ce chantier dans la mesure de vos capacités et de vos envies. \nLes travaux à effectuer consisteront principalement à ratisser de l’herbe et tailler les haies champêtres. \nSi vous souhaitez vous joindre à nous\, rien de plus simple ! Rendez-vous simplement à l’heure indiquée sur le lieu du rendez-vous\, aucune inscription n’est nécessaire. \nTechnicien Protection et Gestion des Espaces Naturels référent du site : LEMAIRE Ludovic (07 48 13 46 35) \nPour plus de renseignements\, vous pouvez appeler le 03 89 83 34 10 ou nous envoyer un mail à antenne.bas-rhin@conservatoire-sites-alsaciens.eu . \nSi vous avez des gants adaptés aux travaux extérieurs\, pensez à les apporter avec vous. \nAlors n’hésitez plus ! Rejoignez-nous et venez mettre la main à la pâte pour entretenir ces milieux riches en biodiversité ! \n 
URL:https://www.conservatoire-sites-alsaciens.eu/agenda/chantier-nature-participatif-a-bischoffsheim-steingrube/
LOCATION:Bischoffsheim\, Rue du Couvent 67870 Bischoffsheim\, Bischoffsheim\, Bischoffsheim\, 67870\, France
CATEGORIES:Chantiers nature
ATTACH;FMTTYPE=image/jpeg:https://www.conservatoire-sites-alsaciens.eu/wp-content/uploads/2020/02/BISCHOFFSHEIM-Steingrube-scaled.jpg
END:VEVENT
BEGIN:VEVENT
DTSTART;TZID=Europe/Paris:20240203T090000
DTEND;TZID=Europe/Paris:20240203T170000
DTSTAMP:20260423T223630
CREATED:20230109T150452Z
LAST-MODIFIED:20241028T083442Z
UID:12667-1706950800-1706979600@www.conservatoire-sites-alsaciens.eu
SUMMARY:Chantier nature participatif à Stetten « Aeussere Riedmatten »
DESCRIPTION:Venez participer à la gestion du site « Aeussere Riedmatten » au sein de la commune de Stetten ! (68) \nCe chantier nature participatif se déroulera sur la journée et débutera à 9h devant la Mairie où le technicien du CEN Alsace et/ou le conservateur bénévole du site vous accueilleront puis vous amèneront sur le site. Une fois le milieu et ses enjeux présentés\, le technicien et/ou le conservateur bénévole vous guideront dans la réalisation des différentes tâches en vous distribuant les outils adaptés. Rassurez-vous\, les tâches à effectuer sont accessibles à tous ! Vous pourrez prendre part à ce chantier dans la mesure de vos capacités et de vos envies. \nLes travaux à effectuer consisteront principalement à l’entretien du verger. Cela permettra de favoriser l’avifaune (notamment la Chouette d’Athena) et les insectes des pré-vergers. \nSi vous souhaitez vous joindre à nous\, rien de plus simple ! Rendez-vous simplement à l’heure indiquée sur le lieu du rendez-vous\, aucune inscription n’est nécessaire. \nPour plus de renseignements\, vous pouvez appeler le 03 89 83 34 20 ou nous envoyer un mail à contact@conservatoire-sites-alsaciens.eu . \nTechnicien Protection et Gestion des Espaces Naturels référent du site : WOLF Vincent (06 76 25 36 08) \nSi vous avez des gants adaptés aux travaux extérieurs\, pensez à les apporter avec vous. \nAlors n’hésitez plus ! Rejoignez-nous et venez mettre la main à la pâte pour entretenir ces milieux riches en biodiversité ! \n 
URL:https://www.conservatoire-sites-alsaciens.eu/agenda/chantier-nature-participatif-a-stetten-aeussere-riedmatten/
CATEGORIES:Chantiers nature
ATTACH;FMTTYPE=image/jpeg:https://www.conservatoire-sites-alsaciens.eu/wp-content/uploads/2019/11/STETTEN-Auessere-Riedmatten-scaled.jpg
END:VEVENT
BEGIN:VEVENT
DTSTART;TZID=Europe/Paris:20240203T090000
DTEND;TZID=Europe/Paris:20240203T170000
DTSTAMP:20260423T223630
CREATED:20240115T080057Z
LAST-MODIFIED:20240115T091335Z
UID:8285-1706950800-1706979600@www.conservatoire-sites-alsaciens.eu
SUMMARY:Chantier Nature participatif à Wittisheim « Rechenwaedel - Schitterlachmatt »
DESCRIPTION:Venez participer à la gestion des sites « Rechenwaedel-Schitterlachmatt» au sein de la commune de Wittisheim ! (67) \nCe chantier nature participatif se déroulera sur la journée et débutera à 9h à la Mairie où le technicien du CEN Alsace et/ou le conservateur bénévole du site vous accueilleront puis vous amèneront sur le site. Une fois le milieu et ses enjeux présentés\, le technicien et/ou le conservateur bénévole vous guideront dans la réalisation des différentes tâches en vous distribuant les outils adaptés. Rassurez-vous\, les tâches à effectuer sont accessibles à tous ! Vous pourrez prendre part à ce chantier dans la mesure de vos capacités et de vos envies. \nLes travaux à effectuer consisteront principalement à entretenir les lisières et les bords des mares. \nSi vous souhaitez vous joindre à nous\, rien de plus simple ! Rendez-vous simplement à l’heure indiquée sur le lieu du rendez-vous\, aucune inscription n’est nécessaire. \nPour plus de renseignements\, vous pouvez appeler le 03 89 83 34 10 ou nous envoyer un mail à antenne.bas-rhin@conservatoire-sites-alsaciens.eu . \nTechnicien Protection et Gestion des Espaces Naturels référent du site : GRUNENWALD Gilles (06 76 25 38 31) \nSi vous avez des gants adaptés aux travaux extérieurs\, pensez à les apporter avec vous. \nAlors n’hésitez plus ! Rejoignez-nous et venez mettre la main à la pâte pour entretenir ces milieux riches en biodiversité !
URL:https://www.conservatoire-sites-alsaciens.eu/agenda/chantier-nature-participatif-a-wittisheim/
LOCATION:Wittisheim\, Mairie\, Wittisheim\, Grand Est\, 67820\, France
CATEGORIES:Chantiers nature
ATTACH;FMTTYPE=image/jpeg:https://www.conservatoire-sites-alsaciens.eu/wp-content/uploads/2019/12/WITTISHEIM-Kreuzmatten-scaled.jpg
END:VEVENT
BEGIN:VEVENT
DTSTART;TZID=Europe/Paris:20240203T140000
DTEND;TZID=Europe/Paris:20240203T170000
DTSTAMP:20260423T223630
CREATED:20200115T102828Z
LAST-MODIFIED:20241030T130554Z
UID:3769-1706968800-1706979600@www.conservatoire-sites-alsaciens.eu
SUMMARY:Chantier Nature participatif à Bischoffsheim « les Vergers du Bischenberg »
DESCRIPTION:Venez participer à la gestion du site « les Vergers du Bischenberg » au sein de la commune de Bischoffsheim ! (67) \nCe chantier nature participatif se déroulera sur 1/2 journée et débutera à 9h sur le parking à l’extérieur du Couvent de Bischoffsheim où le technicien du CEN Alsace et/ou le conservateur bénévole du site vous accueilleront puis vous amèneront sur le site. Une fois le milieu et ses enjeux présentés\, le technicien et/ou le conservateur bénévole vous guideront dans la réalisation des différentes tâches en vous distribuant les outils adaptés. Rassurez-vous\, les tâches à effectuer sont accessibles à tous ! Vous pourrez prendre part à ce chantier dans la mesure de vos capacités et de vos envies. \nLes travaux à effectuer consisteront principalement à tailler les haies champêtres et entretenir les lisières. \nSi vous souhaitez vous joindre à nous\, rien de plus simple ! Rendez-vous simplement à l’heure indiquée sur le lieu du rendez-vous\, aucune inscription n’est nécessaire. \nTechnicien Protection et Gestion des Espaces Naturels référent du site : LEMAIRE Ludovic (07 48 13 46 35) \nPour plus de renseignements\, vous pouvez appeler le 03 89 83 34 10 ou nous envoyer un mail à antenne.bas-rhin@conservatoire-sites-alsaciens.eu . \nSi vous avez des gants adaptés aux travaux extérieurs\, pensez à les apporter avec vous. \nAlors n’hésitez plus ! Rejoignez-nous et venez mettre la main à la pâte pour entretenir ces milieux riches en biodiversité ! \n 
URL:https://www.conservatoire-sites-alsaciens.eu/agenda/chantier-nature-participatif-a-bischoffsheim-vergers/
LOCATION:Bischoffsheim\, Rue du Couvent 67870 Bischoffsheim\, Bischoffsheim\, Bischoffsheim\, 67870\, France
CATEGORIES:Chantiers nature
ATTACH;FMTTYPE=image/jpeg:https://www.conservatoire-sites-alsaciens.eu/wp-content/uploads/2020/01/BISCHOFFSHEIM-Bischenberg.jpg
END:VEVENT
BEGIN:VEVENT
DTSTART;TZID=Europe/Paris:20240210T083000
DTEND;TZID=Europe/Paris:20240210T120000
DTSTAMP:20260423T223630
CREATED:20221026T121135Z
LAST-MODIFIED:20240115T091524Z
UID:12485-1707553800-1707566400@www.conservatoire-sites-alsaciens.eu
SUMMARY:Chantier nature participatif à Ribeauvillé « Brunntal »
DESCRIPTION:Venez participer à la gestion du site « Brunntal » au sein de la commune de Ribeauvillé ! (68) \nCe chantier nature participatif se déroulera sur 1/2 journée et débutera à 8h30 sur la place de la République où le technicien du CEN Alsace et/ou le conservateur bénévole du site vous accueilleront puis vous amèneront sur le site. Une fois le milieu et ses enjeux présentés\, le technicien et/ou le conservateur bénévole vous guideront dans la réalisation des différentes tâches en vous distribuant les outils adaptés. Rassurez-vous\, les tâches à effectuer sont accessibles à tous ! Vous pourrez prendre part à ce chantier dans la mesure de vos capacités et de vos envies. \nLe site dont il est question est constitué de vergers. Les travaux à effectuer consisteront principalement à ramasser les produits de fauche et à la taille des arbres fruitiers. \n➡ En partenariat avec les croqueurs de pommes de Ribeauvillé \nSi vous souhaitez vous joindre à nous\, rien de plus simple ! Rendez-vous simplement à l’heure indiquée sur le lieu du rendez-vous\, aucune inscription n’est nécessaire. \nPour plus de renseignements\, vous pouvez appeler le 03 89 83 34 20 ou nous envoyer un mail à contact@conservatoire-sites-alsaciens.eu . \nTechnicien Protection et Gestion des Espaces Naturels référent du site : GRUNENWALD Gilles (06 76 25 38 31) \nSi vous avez des gants adaptés aux travaux extérieurs\, pensez à les apporter avec vous. \nAlors n’hésitez plus ! Rejoignez-nous et venez mettre la main à la pâte pour entretenir ces milieux riches en biodiversité ! \n 
URL:https://www.conservatoire-sites-alsaciens.eu/agenda/chantier-nature-participatif-a-ribeauville-brunntal/
LOCATION:Ribeauvillé
CATEGORIES:Chantiers nature
END:VEVENT
BEGIN:VEVENT
DTSTART;TZID=Europe/Paris:20240210T090000
DTEND;TZID=Europe/Paris:20240210T120000
DTSTAMP:20260423T223630
CREATED:20210125T084058Z
LAST-MODIFIED:20241030T130814Z
UID:8297-1707555600-1707566400@www.conservatoire-sites-alsaciens.eu
SUMMARY:Chantier Nature participatif à Dinsheim-sur-Bruche « Krappenhummel »
DESCRIPTION:Venez participer à la gestion du site « Krappenhummel » au sein de la commune de Dinsheim-sur-Bruche ! (67) \nCe chantier nature participatif se déroulera sur la demi-journée et débutera à 9h sur la Place du Maire Robert ROBERT où le technicien du CEN Alsace et/ou le conservateur bénévole du site vous accueilleront puis vous amèneront sur le site. Une fois le milieu et ses enjeux présentés\, le technicien et/ou le conservateur bénévole vous guideront dans la réalisation des différentes tâches en vous distribuant les outils adaptés. Rassurez-vous\, les tâches à effectuer sont accessibles à tous ! Vous pourrez prendre part à ce chantier dans la mesure de vos capacités et de vos envies. \nLes travaux à effectuer consisteront principalement à ratisser de l’herbe et tailler les haies champêtres. \nTechnicien Protection et Gestion des Espaces Naturels référent du site : LEMAIRE Ludovic (07 48 13 46 35) \nPour plus de renseignements\, vous pouvez appeler le 03 89 83 34 10 ou nous envoyer un mail à antenne.bas-rhin@conservatoire-sites-alsaciens.eu . \nSi vous avez des gants adaptés aux travaux extérieurs\, pensez à les apporter avec vous. Pensez également à vos masques ! \nAlors n’hésitez plus ! Rejoignez-nous et venez mettre la main à la pâte pour entretenir ces milieux riches en biodiversité !
URL:https://www.conservatoire-sites-alsaciens.eu/agenda/chantier-nature-participatif-a-dinsheim-sur-bruche-krappenhummel/
LOCATION:Dinsheim-sur-Bruche\, Place du Maire Robert Robert\, Dinsheim-sur-Bruche\, Grand Est\, 67190\, France
CATEGORIES:Chantiers nature
ATTACH;FMTTYPE=image/jpeg:https://www.conservatoire-sites-alsaciens.eu/wp-content/uploads/2020/01/DINSHEIM-Krappenhummel.jpg
END:VEVENT
BEGIN:VEVENT
DTSTART;TZID=Europe/Paris:20240210T140000
DTEND;TZID=Europe/Paris:20240210T170000
DTSTAMP:20260423T223630
CREATED:20210125T084133Z
LAST-MODIFIED:20241030T130913Z
UID:8298-1707573600-1707584400@www.conservatoire-sites-alsaciens.eu
SUMMARY:Chantier Nature participatif à Dinsheim-sur-Bruche « Mittelpinn »
DESCRIPTION:Venez participer à la gestion du site « Mittelpinn » au sein de la commune de Dinsheim-sur-Bruche ! (67) \nCe chantier nature participatif se déroulera sur la demi-journée et débutera à 14h sur la Place du Maire Robert ROBERT où le technicien du CEN Alsace et/ou le conservateur bénévole du site vous accueilleront puis vous amèneront sur le site. Une fois le milieu et ses enjeux présentés\, le technicien et/ou le conservateur bénévole vous guideront dans la réalisation des différentes tâches en vous distribuant les outils adaptés. Rassurez-vous\, les tâches à effectuer sont accessibles à tous ! Vous pourrez prendre part à ce chantier dans la mesure de vos capacités et de vos envies. \nLes travaux à effectuer consisteront principalement à ratisser de l’herbe et tailler les haies champêtres. \nTechnicien Protection et Gestion des Espaces Naturels référent du site : LEMAIRE Ludovic (07 48 13 46 35) \nPour plus de renseignements\, vous pouvez appeler le 03 89 83 34 10 ou nous envoyer un mail à antenne.bas-rhin@conservatoire-sites-alsaciens.eu . \nSi vous avez des gants adaptés aux travaux extérieurs\, pensez à les apporter avec vous. \nAlors n’hésitez plus ! Rejoignez-nous et venez mettre la main à la pâte pour entretenir ces milieux riches en biodiversité !
URL:https://www.conservatoire-sites-alsaciens.eu/agenda/chantier-nature-participatif-a-dinsheim-sur-bruche-mittelpinn/
LOCATION:Dinsheim-sur-Bruche\, Place du Maire Robert Robert\, Dinsheim-sur-Bruche\, Grand Est\, 67190\, France
CATEGORIES:Chantiers nature
ATTACH;FMTTYPE=image/jpeg:https://www.conservatoire-sites-alsaciens.eu/wp-content/uploads/2020/01/DINSHEIM-Mittelpinn-scaled.jpg
END:VEVENT
BEGIN:VEVENT
DTSTART;TZID=Europe/Paris:20240217T090000
DTEND;TZID=Europe/Paris:20240217T170000
DTSTAMP:20260423T223630
CREATED:20201222T143901Z
LAST-MODIFIED:20240115T085229Z
UID:8002-1708160400-1708189200@www.conservatoire-sites-alsaciens.eu
SUMMARY:Chantier Nature participatif à Rossfeld "Grabentheiler"
DESCRIPTION:Ce chantier nature participatif se déroulera sur la journée et débutera à 9h à la Mairie de Rossfeld où le technicien du CEN Alsace et/ou le conservateur bénévole du site vous accueilleront puis vous amèneront sur le site. Une fois le milieu et ses enjeux présentés\, le technicien et/ou le conservateur bénévole vous guideront dans la réalisation des différentes tâches en vous distribuant les outils adaptés. Rassurez-vous\, les tâches à effectuer sont accessibles à tous ! Vous pourrez prendre part à ce chantier dans la mesure de vos capacités et de vos envies. \nLes travaux à effectuer consisteront principalement à tailler les lisières. \nRepas de midi offert ! \nSi vous souhaitez vous joindre à nous\, rien de plus simple ! Rendez-vous simplement à l’heure indiquée sur le lieu du rendez-vous\, aucune inscription n’est nécessaire. \nPour plus de renseignements\, vous pouvez appeler le 03 89 83 34 10 ou nous envoyer un mail à antenne.bas-rhin@conservatoire-sites-alsaciens.eu . \nTechnicien Protection et Gestion des Espaces Naturels référent du site : GRUNENWALD Gilles (06 76 25 38 31) \nSi vous avez des gants adaptés aux travaux extérieurs\, pensez à les apporter avec vous. \nAlors n’hésitez plus ! Rejoignez-nous et venez mettre la main à la pâte pour entretenir ces milieux riches en biodiversité !
URL:https://www.conservatoire-sites-alsaciens.eu/agenda/chantier-nature-participatif-a-rossfeld-grabentheiler/
LOCATION:Rossfeld\, Mairie\, Rossfeld\, Grand Est\, 67230\, France
CATEGORIES:Chantiers nature
ATTACH;FMTTYPE=image/jpeg:https://www.conservatoire-sites-alsaciens.eu/wp-content/uploads/2020/01/ROSSFELD-Grabentheiler-scaled.jpg
END:VEVENT
BEGIN:VEVENT
DTSTART;TZID=Europe/Paris:20240217T140000
DTEND;TZID=Europe/Paris:20240217T170000
DTSTAMP:20260423T223630
CREATED:20210125T084408Z
LAST-MODIFIED:20240115T091844Z
UID:8301-1708178400-1708189200@www.conservatoire-sites-alsaciens.eu
SUMMARY:Chantier Nature participatif à Sondersdorf « Muehlengrund »
DESCRIPTION:Venez participer à la gestion du site « Muehlengrund » au sein de la commune de Sondersdorf ! (68) \nCe chantier nature participatif se déroulera sur la demi-journée et débutera à 14h à la Mairie où le technicien du CEN Alsace et/ou le conservateur bénévole du site vous accueilleront puis vous amèneront sur le site. Une fois le milieu et ses enjeux présentés\, le technicien et/ou le conservateur bénévole vous guideront dans la réalisation des différentes tâches en vous distribuant les outils adaptés. Rassurez-vous\, les tâches à effectuer sont accessibles à tous ! Vous pourrez prendre part à ce chantier dans la mesure de vos capacités et de vos envies. \nLes travaux à effectuer consisteront principalement à ratisser de l’herbe. \nSi vous souhaitez vous joindre à nous\, rien de plus simple ! Rendez-vous simplement à l’heure indiquée sur le lieu du rendez-vous\, aucune inscription n’est nécessaire. \nPour plus de renseignements\, vous pouvez appeler le 03 89 83 34 20 ou nous envoyer un mail à contact@conservatoire-sites-alsaciens.eu . \nTechnicien Protection et Gestion des Espaces Naturels référent du site : WOLF Vincent (06 76 25 36 08) \nSi vous avez des gants adaptés aux travaux extérieurs\, pensez à les apporter avec vous. \nAlors n’hésitez plus ! Rejoignez-nous et venez mettre la main à la pâte pour entretenir ces milieux riches en biodiversité !
URL:https://www.conservatoire-sites-alsaciens.eu/agenda/chantier-nature-participatif-a-sondersdorf-muehlengrund/
LOCATION:Sondersdorf\, 15 rue de l'école\, Sondersdorf\, Grand Est\, 68480\, France
CATEGORIES:Chantiers nature
ATTACH;FMTTYPE=image/jpeg:https://www.conservatoire-sites-alsaciens.eu/wp-content/uploads/2019/11/SONDERSDORF-Muehlengrund-scaled.jpg
END:VEVENT
BEGIN:VEVENT
DTSTART;TZID=Europe/Paris:20240221T090000
DTEND;TZID=Europe/Paris:20240221T170000
DTSTAMP:20260423T223630
CREATED:20210224T125131Z
LAST-MODIFIED:20241028T083702Z
UID:8643-1708506000-1708534800@www.conservatoire-sites-alsaciens.eu
SUMMARY:Chantier nature participatif à Rosenwiller « Holiesel »
DESCRIPTION:Venez participer à la gestion du site « Holiesel » au sein de la commune de Rosenwiller ! (67) \nCe chantier nature participatif se déroulera sur la journée et débutera à 9h00 et 14h00 devant le cimetière catholique de Rosenwiller où le technicien du CEN Alsace et/ou le conservateur bénévole du site vous accueilleront puis vous amèneront sur le site. Une fois le milieu et ses enjeux présentés\, le technicien et/ou le conservateur bénévole vous guideront dans la réalisation des différentes tâches en vous distribuant les outils adaptés. Rassurez-vous\, les tâches à effectuer sont accessibles à tous ! Vous pourrez prendre part à ce chantier dans la mesure de vos capacités et de vos envies. \nLes travaux consistent à faire une coupe sélective d’arbuste et évacuer des branches. Ces travaux permettront de restaurer la pelouses sèches à orchidées. \n➡ En partenariat avec la Commune de Rosenwiller. \nSi vous souhaitez vous joindre à nous\, rien de plus simple ! Rendez-vous simplement à l’heure indiquée sur le lieu du rendez-vous\, aucune inscription n’est nécessaire. \nPour plus de renseignements\, vous pouvez appeler le 03 89 83 34 10 ou nous envoyer un mail à antenne.bas-rhin@conservatoire-sites-alsaciens.eu . \nSi vous avez des gants adaptés aux travaux extérieurs\, pensez à les apporter avec vous. \nAlors n’hésitez plus ! Rejoignez-nous et venez mettre la main à la pâte pour entretenir ces milieux riches en biodiversité !
URL:https://www.conservatoire-sites-alsaciens.eu/agenda/chantier-nature-supplementaire-a-rosenwiller-holiesel/
CATEGORIES:Chantiers nature
END:VEVENT
BEGIN:VEVENT
DTSTART;TZID=Europe/Paris:20240224T090000
DTEND;TZID=Europe/Paris:20240224T120000
DTSTAMP:20260423T223630
CREATED:20240115T093347Z
LAST-MODIFIED:20241028T083754Z
UID:14707-1708765200-1708776000@www.conservatoire-sites-alsaciens.eu
SUMMARY:Chantier nature participatif à Illhaeusern (68) "Rappolsweileried"
DESCRIPTION:Venez participer à la gestion du site « Rappolsweileried » au sein de la commune d’Illhaeusern ! (68) \nCe chantier nature participatif se déroulera sur 1/2 journée et débutera à 9h devant le moulin\, ancienne route d’Elsenheim\, où le technicien du CEN Alsace et/ou le Conservateur bénévole du site vous accueilleront puis vous amèneront sur le site. Une fois le milieu et ses enjeux présentés\, le technicien et/ou le conservateur bénévole vous guideront dans la réalisation des différentes tâches en vous distribuant les outils adaptés. Rassurez-vous\, les tâches à effectuer sont accessibles à tous ! Vous pourrez prendre part à ce chantier dans la mesure de vos capacités et de vos envies. \nLes travaux à effectuer consisteront principalement à entretenir la ripisylve. \nSi vous souhaitez vous joindre à nous\, rien de plus simple ! Rendez-vous simplement à l’heure indiquée sur le lieu du rendez-vous\, aucune inscription n’est nécessaire. \nPour plus de renseignements\, vous pouvez appeler le 03 89 83 34 20 ou nous envoyer un mail à contact@conservatoire-sites-alsaciens.eu . \nTechnicien Protection et Gestion des Espaces Naturels référent du site : GRUNENWALD Gilles (06 76 25 38 31) \nSi vous avez des gants adaptés aux travaux extérieurs\, pensez à les apporter avec vous. \nAlors n’hésitez plus ! Rejoignez-nous et venez mettre la main à la pâte pour entretenir ces milieux riches en biodiversité !
URL:https://www.conservatoire-sites-alsaciens.eu/agenda/chantier-nature-participatif-a-illhaeusern-68-rappolsweileried/
CATEGORIES:Chantiers nature
ATTACH;FMTTYPE=image/jpeg:https://www.conservatoire-sites-alsaciens.eu/wp-content/uploads/2024/01/IMG_6854_KU-scaled.jpg
END:VEVENT
BEGIN:VEVENT
DTSTART;TZID=Europe/Paris:20240224T090000
DTEND;TZID=Europe/Paris:20240224T170000
DTSTAMP:20260423T223630
CREATED:20200115T102105Z
LAST-MODIFIED:20241030T131148Z
UID:3765-1708765200-1708794000@www.conservatoire-sites-alsaciens.eu
SUMMARY:Chantier Nature participatif à Illkirch Graffenstaden « Hertenmatten »
DESCRIPTION:Venez participer à la gestion du site « Hertenmatten » au sein de la commune d’Illkirch Graffenstaden – Eschau ! \nCe chantier nature participatif se déroulera sur la journée et débutera à 9h et 14h sur le Parking de l’église Saint-Trophime\, rue 1ère Division Blindée où le technicien du CEN Alsace et/ou le conservateur bénévole du site vous accueilleront puis vous amèneront sur le site. Une fois le milieu et ses enjeux présentés\, le technicien et/ou le conservateur bénévole vous guideront dans la réalisation des différentes tâches en vous distribuant les outils adaptés. Rassurez-vous\, les tâches à effectuer sont accessibles à tous ! Vous pourrez prendre part à ce chantier dans la mesure de vos capacités et de vos envies. \nLes travaux à effectuer consisteront principalement à tailler des haies champêtres et entretenir les mares. \n➡ En partenariat avec l’Association Eschau-Nature \nSi vous souhaitez vous joindre à nous\, rien de plus simple ! Rendez-vous simplement à l’heure indiquée sur le lieu du rendez-vous\, aucune inscription n’est nécessaire. \nTechnicien Protection et Gestion des Espaces Naturels référent du site : LEMAIRE Ludovic (07 48 13 46 35) \nPour plus de renseignements\, vous pouvez appeler le 03 89 83 34 10 ou nous envoyer un mail à antenne.bas-rhin@conservatoire-sites-alsaciens.eu . \nSi vous avez des gants adaptés aux travaux extérieurs\, pensez à les apporter avec vous. \nAlors n’hésitez plus ! Rejoignez-nous et venez mettre la main à la pâte pour entretenir ces milieux riches en biodiversité !
URL:https://www.conservatoire-sites-alsaciens.eu/agenda/chantier-nature-a-illkirch/
LOCATION:Illkirch Graffenstaden\, Ferme de la Schafthard\, Illkirch Graffenstaden\, Grand Est\, 67400\, France
CATEGORIES:Chantiers nature
ATTACH;FMTTYPE=image/jpeg:https://www.conservatoire-sites-alsaciens.eu/wp-content/uploads/2020/01/ILLKIRCH-GRAFFENSTADEN-ESCHAU-Hertenmatten-scaled.jpg
END:VEVENT
END:VCALENDAR