BEGIN:VCALENDAR
VERSION:2.0
PRODID:-//Conservatoire d&#039;espaces naturels d&#039;Alsace - ECPv6.15.20//NONSGML v1.0//EN
CALSCALE:GREGORIAN
METHOD:PUBLISH
X-WR-CALNAME:Conservatoire d&#039;espaces naturels d&#039;Alsace
X-ORIGINAL-URL:https://www.conservatoire-sites-alsaciens.eu
X-WR-CALDESC:Évènements pour Conservatoire d&#039;espaces naturels d&#039;Alsace
REFRESH-INTERVAL;VALUE=DURATION:PT1H
X-Robots-Tag:noindex
X-PUBLISHED-TTL:PT1H
BEGIN:VTIMEZONE
TZID:Europe/Paris
BEGIN:DAYLIGHT
TZOFFSETFROM:+0100
TZOFFSETTO:+0200
TZNAME:CEST
DTSTART:20220327T010000
END:DAYLIGHT
BEGIN:STANDARD
TZOFFSETFROM:+0200
TZOFFSETTO:+0100
TZNAME:CET
DTSTART:20221030T010000
END:STANDARD
BEGIN:DAYLIGHT
TZOFFSETFROM:+0100
TZOFFSETTO:+0200
TZNAME:CEST
DTSTART:20230326T010000
END:DAYLIGHT
BEGIN:STANDARD
TZOFFSETFROM:+0200
TZOFFSETTO:+0100
TZNAME:CET
DTSTART:20231029T010000
END:STANDARD
BEGIN:DAYLIGHT
TZOFFSETFROM:+0100
TZOFFSETTO:+0200
TZNAME:CEST
DTSTART:20240331T010000
END:DAYLIGHT
BEGIN:STANDARD
TZOFFSETFROM:+0200
TZOFFSETTO:+0100
TZNAME:CET
DTSTART:20241027T010000
END:STANDARD
END:VTIMEZONE
BEGIN:VEVENT
DTSTART;TZID=Europe/Paris:20231202T090000
DTEND;TZID=Europe/Paris:20231202T120000
DTSTAMP:20260424T014556
CREATED:20200120T155338Z
LAST-MODIFIED:20230109T150840Z
UID:3985-1701507600-1701518400@www.conservatoire-sites-alsaciens.eu
SUMMARY:Chantier Nature participatif à Rouffach « Collines de Rouffach »
DESCRIPTION:Venez participer à la gestion du site « Collines de Rouffach » au sein de la commune de Rouffach ! (68) \nCe chantier nature participatif se déroulera sur 1/2 journée et débutera à 9h devant la Mairie de Rouffach où le technicien du CEN Alsace et/ou le conservateur bénévole du site vous accueilleront puis vous amèneront sur le site. Une fois le milieu et ses enjeux présentés\, le technicien et/ou le conservateur bénévole vous guideront dans la réalisation des différentes tâches en vous distribuant les outils adaptés. Rassurez-vous\, les tâches à effectuer sont accessibles à tous ! Vous pourrez prendre part à ce chantier dans la mesure de vos capacités et de vos envies. \nLe site dont il est question est constitué de l’un des espaces naturels les plus connus en Alsace\, à la fois des naturalistes et des scientifiques. Le site bénéficie de conditions très arides d’où la présence de pelouses sèches qui constituent un habitat complémentaire aux vieux vergers\, favorables aux espèces cavicoles. \nLes travaux à effectuer consisteront principalement à ratisser de l’herbe et tailler les haies et les lisières\, cela permettra de conserver le milieu ouvert. \nSi vous souhaitez vous joindre à nous\, rien de plus simple ! Rendez-vous simplement à l’heure indiquée sur le lieu du rendez-vous\, aucune inscription n’est nécessaire. \nPour plus de renseignements\, vous pouvez appeler le 03 89 83 34 20 ou nous envoyer un mail à contact@conservatoire-sites-alsaciens.eu . \nTechnicien Protection et Gestion des Espaces Naturels référent du site : THIEBAUT Louis (06 76 25 39 97) \nSi vous avez des gants adaptés aux travaux extérieurs\, pensez à les apporter avec vous. \nAlors n’hésitez plus ! Rejoignez-nous et venez mettre la main à la pâte pour entretenir ces milieux riches en biodiversité ! \n 
URL:https://www.conservatoire-sites-alsaciens.eu/agenda/chantier-nature-participatif-a-rouffach-3/
LOCATION:Rouffach\, 6 Place Clemenceau\, 68250 Rouffach\, Rouffach\, 68250\, France
CATEGORIES:Chantiers nature
ATTACH;FMTTYPE=image/jpeg:https://www.conservatoire-sites-alsaciens.eu/wp-content/uploads/2020/01/2014_10_18_ROUFFACH_Bollenberg_Hors-RNR_MO.Waldvogel_Photos-Chantier-pour-CSA-scaled.jpg
END:VEVENT
BEGIN:VEVENT
DTSTART;TZID=Europe/Paris:20231202T090000
DTEND;TZID=Europe/Paris:20231202T170000
DTSTAMP:20260424T014556
CREATED:20210128T163406Z
LAST-MODIFIED:20241028T093951Z
UID:8470-1701507600-1701536400@www.conservatoire-sites-alsaciens.eu
SUMMARY:Chantier nature participatif à Rosenwiller « Holiesel »
DESCRIPTION:Venez participer à la gestion du site « Holiesel » au sein de la commune de Rosenwiller ! (67) \nCe chantier nature participatif se déroulera sur la journée et débutera à 9h et 14h devant le cimetière catholique de Rosenwiller (Route de Rosheim) où le technicien du CEN Alsace et/ou le conservateur bénévole du site vous accueilleront puis vous amèneront sur le site. Une fois le milieu et ses enjeux présentés\, le technicien et/ou le conservateur bénévole vous guideront dans la réalisation des différentes tâches en vous distribuant les outils adaptés. Rassurez-vous\, les tâches à effectuer sont accessibles à tous ! Vous pourrez prendre part à ce chantier dans la mesure de vos capacités et de vos envies. \nLes travaux à effectuer consisteront principalement à tailler les haies champêtres et les lisières. \n➡ En partenariat avec la Commune de Rosenwiller. \nSi vous souhaitez vous joindre à nous\, rien de plus simple ! Rendez-vous simplement à l’heure indiquée sur le lieu du rendez-vous\, aucune inscription n’est nécessaire. \nPour plus de renseignements\, vous pouvez appeler le 03 89 83 34 10 ou nous envoyer un mail à antenne.bas-rhin@conservatoire-sites-alsaciens.eu . \nTechnicien Protection et Gestion des Espaces Naturels référent du site : GOERTZ Pierre (06 87 59 04 84) \nSi vous avez des gants adaptés aux travaux extérieurs\, pensez à les apporter avec vous. \nAlors n’hésitez plus ! Rejoignez-nous et venez mettre la main à la pâte pour entretenir ces milieux riches en biodiversité !
URL:https://www.conservatoire-sites-alsaciens.eu/agenda/chantier-nature-participatif-a-rosenwiller-holiesel-2/
LOCATION:Cimetière catholique de Rosenwiller\, place du cimetière Rosenwiller\, Rosenwiller\, 67560\, France
CATEGORIES:Chantiers nature
ATTACH;FMTTYPE=image/jpeg:https://www.conservatoire-sites-alsaciens.eu/wp-content/uploads/2021/01/2011_11_05_ROSENWILLER_Holiesel_PG_Chantier-nature-86-scaled.jpg
END:VEVENT
END:VCALENDAR