BEGIN:VCALENDAR
VERSION:2.0
PRODID:-//Conservatoire d&#039;espaces naturels d&#039;Alsace - ECPv6.15.20//NONSGML v1.0//EN
CALSCALE:GREGORIAN
METHOD:PUBLISH
X-ORIGINAL-URL:https://www.conservatoire-sites-alsaciens.eu
X-WR-CALDESC:Évènements pour Conservatoire d&#039;espaces naturels d&#039;Alsace
REFRESH-INTERVAL;VALUE=DURATION:PT1H
X-Robots-Tag:noindex
X-PUBLISHED-TTL:PT1H
BEGIN:VTIMEZONE
TZID:Europe/Paris
BEGIN:DAYLIGHT
TZOFFSETFROM:+0100
TZOFFSETTO:+0200
TZNAME:CEST
DTSTART:20220327T010000
END:DAYLIGHT
BEGIN:STANDARD
TZOFFSETFROM:+0200
TZOFFSETTO:+0100
TZNAME:CET
DTSTART:20221030T010000
END:STANDARD
BEGIN:DAYLIGHT
TZOFFSETFROM:+0100
TZOFFSETTO:+0200
TZNAME:CEST
DTSTART:20230326T010000
END:DAYLIGHT
BEGIN:STANDARD
TZOFFSETFROM:+0200
TZOFFSETTO:+0100
TZNAME:CET
DTSTART:20231029T010000
END:STANDARD
BEGIN:DAYLIGHT
TZOFFSETFROM:+0100
TZOFFSETTO:+0200
TZNAME:CEST
DTSTART:20240331T010000
END:DAYLIGHT
BEGIN:STANDARD
TZOFFSETFROM:+0200
TZOFFSETTO:+0100
TZNAME:CET
DTSTART:20241027T010000
END:STANDARD
END:VTIMEZONE
BEGIN:VEVENT
DTSTART;TZID=Europe/Paris:20230603T090000
DTEND;TZID=Europe/Paris:20230603T170000
DTSTAMP:20260424T111047
CREATED:20210128T144842Z
LAST-MODIFIED:20221026T091555Z
UID:8398-1685782800-1685811600@www.conservatoire-sites-alsaciens.eu
SUMMARY:Chantier nature participatif à Bernardswiller « Dorenberg »
DESCRIPTION:Venez participer à la gestion du site « Dorenberg » au sein de la commune de Bernardswiller ! \nCe chantier nature participatif se déroulera sur deux 1/2 journées et débutera à 9h ou à 14h sur la Place de la Mairie où le technicien du CEN Alsace et/ou le conservateur bénévole du site vous accueilleront puis vous amèneront sur le site. Une fois le milieu et ses enjeux présentés\, le technicien et/ou le conservateur bénévole vous guideront dans la réalisation des différentes tâches en vous distribuant les outils adaptés. Rassurez-vous\, les tâches à effectuer sont accessibles à tous ! Vous pourrez prendre part à ce chantier dans la mesure de vos capacités et de vos envies. \nLes travaux à effectuer consisteront principalement à faucher et gérer des plantes exotiques envahissantes. \nSi vous souhaitez vous joindre à nous\, rien de plus simple ! Rendez-vous simplement à l’heure indiquée sur le lieu du rendez-vous\, aucune inscription n’est nécessaire. \nPour plus de renseignements\, vous pouvez appeler le 03 89 83 34 10 ou nous envoyer un mail à antenne.bas-rhin@conservatoire-sites-alsaciens.eu . \nTechnicien Protection et Gestion des Espaces Naturels référent du site : GOERTZ Pierre (06 87 59 04 84) \nSi vous avez des gants adaptés aux travaux extérieurs\, pensez à les apporter avec vous. \nAlors n’hésitez plus ! Rejoignez-nous et venez mettre la main à la pâte pour entretenir ces milieux riches en biodiversité !
URL:https://www.conservatoire-sites-alsaciens.eu/agenda/chantier-nature-participatif-a-bernardswiller-dorenberg/
LOCATION:Bernardswiller\, 3 Place de l'Église\, 67210 Bernardswiller\, Bernardswiller\, 67210\, France
CATEGORIES:Chantiers nature
ATTACH;FMTTYPE=image/jpeg:https://www.conservatoire-sites-alsaciens.eu/wp-content/uploads/2019/10/BERNARDSWILLER-Dorenberg.jpg
END:VEVENT
BEGIN:VEVENT
DTSTART;TZID=Europe/Paris:20230610T140000
DTEND;TZID=Europe/Paris:20230610T170000
DTSTAMP:20260424T111047
CREATED:20200115T100232Z
LAST-MODIFIED:20221026T092051Z
UID:3757-1686405600-1686416400@www.conservatoire-sites-alsaciens.eu
SUMMARY:Chantier Nature participatif à Plobsheim « Schersand »
DESCRIPTION:Venez participer à la gestion du site « Schersand » au sein de la commune de Plobsheim ! \nCe chantier nature participatif se déroulera sur 1/2 journée et débutera à 14h sur le Parking du Centre d’accueil de la Thumenau (D468) où le technicien du CEN Alsace et/ou le conservateur bénévole du site vous accueilleront puis vous amèneront sur le site. Une fois le milieu et ses enjeux présentés\, le technicien et/ou le conservateur bénévole vous guideront dans la réalisation des différentes tâches en vous distribuant les outils adaptés. Rassurez-vous\, les tâches à effectuer sont accessibles à tous ! Vous pourrez prendre part à ce chantier dans la mesure de vos capacités et de vos envies. \nLes travaux à effectuer consisteront principalement à gérer des plantes exotiques envahissantes. \n➡ En partenariat avec l’Association Plobsheim Nature Environnement. \nSi vous souhaitez vous joindre à nous\, rien de plus simple ! Rendez-vous simplement à l’heure indiquée sur le lieu du rendez-vous\, aucune inscription n’est nécessaire. \nPour plus de renseignements\, vous pouvez appeler le 03 89 83 34 10 ou nous envoyer un mail à antenne.bas-rhin@conservatoire-sites-alsaciens.eu . \nTechnicien Protection et Gestion des Espaces Naturels référent du site : GOERTZ Pierre (06 87 59 04 84) \nSi vous avez des gants adaptés aux travaux extérieurs\, pensez à les apporter avec vous. \nAlors n’hésitez plus ! Rejoignez-nous et venez mettre la main à la pâte pour entretenir ces milieux riches en biodiversité ! \n 
URL:https://www.conservatoire-sites-alsaciens.eu/agenda/chantier-nature-participatif-a-plobsheim/
LOCATION:Plobsheim\, 354 Rue Fin de Banlieue\, Plobsheim\, Grand Est\, 67115\, France
CATEGORIES:Chantiers nature
ATTACH;FMTTYPE=image/jpeg:https://www.conservatoire-sites-alsaciens.eu/wp-content/uploads/2020/01/PLOBSHEIM-Schersand-scaled.jpg
END:VEVENT
BEGIN:VEVENT
DTSTART;TZID=Europe/Paris:20230624T090000
DTEND;TZID=Europe/Paris:20230624T170000
DTSTAMP:20260424T111047
CREATED:20210128T151038Z
LAST-MODIFIED:20241030T132051Z
UID:8414-1687597200-1687626000@www.conservatoire-sites-alsaciens.eu
SUMMARY:Chantier Nature participatif à Bischoffsheim « les Vergers du Bischenberg »
DESCRIPTION:Venez participer à la gestion du site « les Vergers du Bischenberg » au sein de la commune de Bischoffsheim ! (67) \nCe chantier nature participatif se déroulera sur la journée et débutera à 9h et à 14h sur le parking à l’extérieur du Couvent de Bischoffsheim où le technicien du CEN Alsace et/ou le conservateur bénévole du site vous accueilleront puis vous amèneront sur le site. Une fois le milieu et ses enjeux présentés\, le technicien et/ou le conservateur bénévole vous guideront dans la réalisation des différentes tâches en vous distribuant les outils adaptés. Rassurez-vous\, les tâches à effectuer sont accessibles à tous ! Vous pourrez prendre part à ce chantier dans la mesure de vos capacités et de vos envies. \nLes travaux à effectuer consisteront principalement à la fenaison et en fin de chantier libre cueillette de cerises. \nSi vous souhaitez vous joindre à nous\, rien de plus simple ! Rendez-vous simplement à l’heure indiquée sur le lieu du rendez-vous\, aucune inscription n’est nécessaire. \nPour plus de renseignements\, vous pouvez appeler le 03 89 83 34 10 ou nous envoyer un mail à antenne.bas-rhin@conservatoire-sites-alsaciens.eu .Technicien Protection et Gestion des Espaces Naturels référent du site : LEMAIRE Ludovic (07 48 13 46 35) \nSi vous avez des gants adaptés aux travaux extérieurs\, pensez à les apporter avec vous. \nAlors n’hésitez plus ! Rejoignez-nous et venez mettre la main à la pâte pour entretenir ces milieux riches en biodiversité ! \n 
URL:https://www.conservatoire-sites-alsaciens.eu/agenda/chantier-nature-participatif-a-bischoffsheim-les-vergers-du-bischenberg/
LOCATION:Bischoffsheim\, Rue du Couvent 67870 Bischoffsheim\, Bischoffsheim\, Bischoffsheim\, 67870\, France
CATEGORIES:Chantiers nature
ATTACH;FMTTYPE=image/jpeg:https://www.conservatoire-sites-alsaciens.eu/wp-content/uploads/2020/01/BISCHOFFSHEIM-Bischenberg.jpg
END:VEVENT
END:VCALENDAR